BEGIN:VCALENDAR
VERSION:2.0
PRODID:-//International Chess Club - ECPv6.15.13.1//NONSGML v1.0//EN
CALSCALE:GREGORIAN
METHOD:PUBLISH
X-ORIGINAL-URL:https://ichessclub.org
X-WR-CALDESC:Events for International Chess Club
REFRESH-INTERVAL;VALUE=DURATION:PT1H
X-Robots-Tag:noindex
X-PUBLISHED-TTL:PT1H
BEGIN:VTIMEZONE
TZID:Europe/Helsinki
BEGIN:DAYLIGHT
TZOFFSETFROM:+0200
TZOFFSETTO:+0300
TZNAME:EEST
DTSTART:20180325T010000
END:DAYLIGHT
BEGIN:STANDARD
TZOFFSETFROM:+0300
TZOFFSETTO:+0200
TZNAME:EET
DTSTART:20181028T010000
END:STANDARD
BEGIN:DAYLIGHT
TZOFFSETFROM:+0200
TZOFFSETTO:+0300
TZNAME:EEST
DTSTART:20190331T010000
END:DAYLIGHT
BEGIN:STANDARD
TZOFFSETFROM:+0300
TZOFFSETTO:+0200
TZNAME:EET
DTSTART:20191027T010000
END:STANDARD
BEGIN:DAYLIGHT
TZOFFSETFROM:+0200
TZOFFSETTO:+0300
TZNAME:EEST
DTSTART:20200329T010000
END:DAYLIGHT
BEGIN:STANDARD
TZOFFSETFROM:+0300
TZOFFSETTO:+0200
TZNAME:EET
DTSTART:20201025T010000
END:STANDARD
BEGIN:DAYLIGHT
TZOFFSETFROM:+0200
TZOFFSETTO:+0300
TZNAME:EEST
DTSTART:20210328T010000
END:DAYLIGHT
BEGIN:STANDARD
TZOFFSETFROM:+0300
TZOFFSETTO:+0200
TZNAME:EET
DTSTART:20211031T010000
END:STANDARD
BEGIN:DAYLIGHT
TZOFFSETFROM:+0200
TZOFFSETTO:+0300
TZNAME:EEST
DTSTART:20220327T010000
END:DAYLIGHT
BEGIN:STANDARD
TZOFFSETFROM:+0300
TZOFFSETTO:+0200
TZNAME:EET
DTSTART:20221030T010000
END:STANDARD
BEGIN:DAYLIGHT
TZOFFSETFROM:+0200
TZOFFSETTO:+0300
TZNAME:EEST
DTSTART:20230326T010000
END:DAYLIGHT
BEGIN:STANDARD
TZOFFSETFROM:+0300
TZOFFSETTO:+0200
TZNAME:EET
DTSTART:20231029T010000
END:STANDARD
BEGIN:DAYLIGHT
TZOFFSETFROM:+0200
TZOFFSETTO:+0300
TZNAME:EEST
DTSTART:20240331T010000
END:DAYLIGHT
BEGIN:STANDARD
TZOFFSETFROM:+0300
TZOFFSETTO:+0200
TZNAME:EET
DTSTART:20241027T010000
END:STANDARD
BEGIN:DAYLIGHT
TZOFFSETFROM:+0200
TZOFFSETTO:+0300
TZNAME:EEST
DTSTART:20250330T010000
END:DAYLIGHT
BEGIN:STANDARD
TZOFFSETFROM:+0300
TZOFFSETTO:+0200
TZNAME:EET
DTSTART:20251026T010000
END:STANDARD
END:VTIMEZONE
BEGIN:VEVENT
DTSTART;VALUE=DATE:20240106
DTEND;VALUE=DATE:20240616
DTSTAMP:20260422T185044
CREATED:20231106T074734Z
LAST-MODIFIED:20231106T082813Z
UID:3723-1704499200-1718495999@ichessclub.org
SUMMARY:Kasparov Chess Foundation Academy
DESCRIPTION:
URL:https://ichessclub.org/evenimente/kasparov-chess-foundation-academy/
ATTACH;FMTTYPE=image/png:https://ichessclub.org/wp-content/uploads/2023/11/banner-kcf-2.png
ORGANIZER;CN="Kasparov Chess Foundation Academy":MAILTO:office@kcfacademy.org
END:VEVENT
BEGIN:VEVENT
DTSTART;TZID=Europe/Helsinki:20211106T080000
DTEND;TZID=Europe/Helsinki:20220430T170000
DTSTAMP:20260422T185044
CREATED:20210830T071442Z
LAST-MODIFIED:20210830T072104Z
UID:3682-1636185600-1651338000@ichessclub.org
SUMMARY:ECU Annual Training Program
DESCRIPTION:After successfully completing the first part of ECU Annual Program where over 150 participants from over 40 countries joined the classes\, we are glad to be partners again with European Chess Academy Maribor in the second ECU Annual Training Program that will be held from 6th of November 2021 to 30th of April 2022. \nORGANISERS \nEuropean chess Union and European Chess Academy supported by FIDE Development Fund \nDATE AND SCHEDULE \n6th of November 2021 to 30th of April 2022 \nLEVEL 1 and 3 every Saturday at 10am CET\nLEVEL 2 and 4 every Saturday at 12pm CET \nLECTURERS \nGM\, FST Adrian Mikhalchishin\n– More than 40 years of coaching experiences\nGM\, FST Georg Mohr\n– More than 35 years of coaching experiences\nIM\, FT Tadej Sakelsek\n– More than 15 year of coaching experiences \nLANGUAGE and PLATFORM \nEnglish language \nZoom platform \nDigital materials provided on app.ichessclub.org \n  \nWHO CAN REGISTER? \nOpen for all ages and levels:\nLEVEL 1 – for players below 1600 ELO\nLEVEL 2 – for players between 1600 and 1900 ELO\nLEVEL 3 – for players between 1900 and 2200 ELO\nLEVEL 4 – for players above 2200 ELO \nCOORDINATION\nTadej Sakelsek – general coordinator\nBogdan Garbea – app coordinator \nPROGRAM DETAILS \n\n4 years educational program\n2 school hours weekly per group (total 48 hours)\n\nDigital materials (lectures\, exercies\, recordings) will be provided on app.ichessclub.org \nTUITION – 200€ \nDiscounts for individuals \n\n10% discount for all participants of the 1st ECU Annual Training Program\n\nDiscounts for clubs and federations \n\nOption 5+1 – 1000€*\nRegister five and get one free of charge\nOption 8+2 – 1600€*\nRegister eight and get two free of charge\n\n  \nGENERAL TOPICS OF THE PROGRAM \nLevel 1 – for players bellow 1600 ELO: \n\nAttack the king and typical tactical motifs\nOpenings and active opening repertoire\nTheoretical endgames\nCalculation of variations\nBasic strategical elements\nMeet great players from the history\n\nTOTAL = 48 hours \n Level 2 – for players between 1600 and 1900 ELO: \n\nTypical opening ideas\nTheoretical and practical endgames\nAdvanced strategical elements\nAdvanced tactical elements and attacks\nTechnique of calculation\n\nTOTAL = 48 hours \n  \nLevel 3 – for players between 1900 and 2200 ELO: \n\nTypical opening ideas\nPractical endgames\nAdvanced strategical elements\nAdvanced tactical elements and attacks\nTechnique of calculation\n\nTOTAL = 48 hours \n  \nLevel 4 – for players above 2200 ELO: \n\nNewest opening and middlegame trends\nPlay with unbalanced material\nAdvanced strategical ideas\nStudying complicated endgames\nTechnique of calculation\n\nTOTAL = 48 hours \nREGISTRATION\nUntil November 20th of October 2021 \nComplete the registration form
URL:https://ichessclub.org/evenimente/ecu-annual-training-program/
LOCATION:app.ichessclub.org\, https://app.ichessclub.org/\, Iasi\, Romania
ATTACH;FMTTYPE=image/jpeg:https://ichessclub.org/wp-content/uploads/2021/08/ECU-2.jpg
ORGANIZER;CN="European Chess Academy":MAILTO:info.zavod.esa@gmail.com
END:VEVENT
BEGIN:VEVENT
DTSTART;TZID=Europe/Helsinki:20210110T120000
DTEND;TZID=Europe/Helsinki:20210110T140000
DTSTAMP:20260422T185044
CREATED:20210104T083720Z
LAST-MODIFIED:20210109T170911Z
UID:3669-1610280000-1610287200@ichessclub.org
SUMMARY:ECU Annual Training Program – Blitz Tournament
DESCRIPTION:European Chess Academy Maribor\, invites you to join \nECU Annual Training Program – Blitz Tournament \n            10th of January: 11:00 AM CET \nRegulations     \n\nThe entry is open to all ages and categories.\nTournament will be held on Swiss System of 9 rounds.\nTime control for each game will be 5 minutes + 3 seconds increment.\nAll players must first create account on chess.com\nParticipants must fill the registration form: https://bit.ly/39e0Hzv\nParticipants must send request to join “iChessClub” on chess.com: https://bit.ly/3bbcuBj\nOnce your request to join will be approved\, you will be able to join the tournament using this link: https://bit.ly/2KW2kJO\nEach player must individually join the event from his registered account.\n\n  \nPrizes  \n\n1st Place – Free entrance (worth 80 EURO) for “Improve your chess” – Online Training Program\n1st to 10th Place on general standings: Simultaneous match against GM Alojzije Jankovic that will be held on 24th of January at 11:00 am CET on lichess.org\n\n  \nSpecial prizes for ECU Annual Training Program Members \n\n1st place from each level (1\,2\,3\,4) – Simultaneous match against GM Alojzije Jankovic\nTop 3 players from Level 1: Book – “The power of tactics 1” (by GM Mikhalchishin & IM Sakelsek)\nTop 3 players from Level 2: Book – “The power of tactics 2” (by GM Mikhalchishin & IM Sakelsek)\nTop 3 players from level 3: Book – “The center” (by GM Mikhalchishin & GM Mohr)\nTop 3 players from level 4: Book – “Understanding Maroczy Structures” (by GM Mikhalchishin & GM Mohr)\n\n  \nFair-play      \nAll registrations will be done through the chess.com website. \nIt is forbidden to use any assistance from electronic devices during the game and the match rate will be automatically checked through chess programs via the website. \nAll participants must be ready through the site 10 minutes before the start of the tournament. By competing in this event\, you are agreeing that your real (legal) name be shown while your games are in progress. You are also agreeing to abide by all rules and site policies found at Chess.com/legal\, and that you will cooperate fully with Chess.com’s fair play detection team. Should your play be found too suspicious to warrant playing for prizes\, you may be removed from the tournament while it is in progress.
URL:https://ichessclub.org/evenimente/ecu-annual-training-program-blitz-tournament/
ATTACH;FMTTYPE=image/jpeg:https://ichessclub.org/wp-content/uploads/2021/01/ECU-Academy-Blitz-Tournament.jpg
END:VEVENT
BEGIN:VEVENT
DTSTART;TZID=Europe/Helsinki:20201205T080000
DTEND;TZID=Europe/Helsinki:20210605T170000
DTSTAMP:20260422T185044
CREATED:20201026T083203Z
LAST-MODIFIED:20201126T173228Z
UID:3618-1607155200-1622912400@ichessclub.org
SUMMARY:Develop practical way of thinking
DESCRIPTION:ORGANISERS \nEuropean chess Union and European Chess Academy supported by FIDE Development Fund \nDATE AND SCHEDULE \nDecember 5th 2020 – June 5th 2021 \nLEVEL 1 and 3 every Saturday at 10am CET\nLEVEL 2 and 4 every Saturday at 12pm CET \nLECTURERS \nGM\, FST Adrian Mikhalchishin\n– More than 40 years of coaching experiences\nGM\, FST Georg Mohr\n– More than 35 years of coaching experiences\nIM\, FT Tadej Sakelsek\n– More than 15 year of coaching experiences \nLANGUAGE and PLATFORM\nEnglish language \nZoom platform \nDigital materials provided on app.ichessclub.org \n  \nWHO CAN REGISTER? \nOpen for all ages and levels:\nLEVEL 1 – for players below 1300 ELO\nLEVEL 2 – for players between 1300 and 1600 ELO\nLEVEL 3 – for players between 1600 and 1900 ELO\nLEVEL 4 – for players above 1900 ELO \nCOORDINATION\nTadej Sakelsek – general coordinator\nBogdan Garbea – app coordinator \nPROGRAM DETAILS \nTUITION – 200€ \n4 years educational program\nNEW APROACH – we will develop practical way of thinking\nLEVEL 1 has a choice to attend the complete training program for 4 years\nLEVEL 2 has a choice to attend the training program for 3 years\nLEVEL 3 has a choice to attend the training program for 2 years\nLEVEL 4 will be able to attend the educational program for 1 year \n2 school hours weekly per group (total 48 hours) \nDigital materials will be provided on app.ichessclub.org \nGENERAL TOPICS OF THE PROGRAM \nLevel 1 – for players below 1300 ELO:\n1. Attack the king and typical tactical motifs (20h)\n2. Typical opening principles (6h)\n3. Basic theoretical endgames (6h)\n4. Basic strategical elements (16h)\nTOTAL = 48 hours \nLevel 2 – for players between 1300 and 1600 ELO:\n1. Attack the king and typical tactical motifs (12h)\n2. Openings and active opening repertoire (8h)\n3. Theoretical endgames (8h)\n4. Calculation of variations (6h)\n5. Basic strategical elements (10h)\n6. Computer education (4h)\nTOTAL = 48 hours \nLevel 3 – for players between 1600 and 1900 ELO:\n1. Typical opening ideas (4h)\n2. Theoretical and practical endgames (10h)\n3. Advanced strategical elements (20h)\n4. Advanced tactical elements and attacks (8h)\n5. Calculation of variations (6h)\nTOTAL = 48 hours \nLevel 4 – for players above 1900 ELO:\n1. Typical opening ideas (10h)\n2. Practical endgames (10h)\n3. Advanced strategical elements (18h)\n4. Advanced tactical elements and attacks (4h)\n5. Calculation of variations (6h)\nTOTAL = 48 hours \nREGISTRATION\nUntil November 25th 2020 \nComplete the registration form
URL:https://ichessclub.org/evenimente/develop-practical-way-of-thinking/
LOCATION:app.ichessclub.org\, https://app.ichessclub.org/\, Iasi\, Romania
ATTACH;FMTTYPE=image/jpeg:https://ichessclub.org/wp-content/uploads/2020/10/ECU-annual-training-program-3_NOVI-1.jpg
ORGANIZER;CN="European Chess Academy":MAILTO:info.zavod.esa@gmail.com
END:VEVENT
BEGIN:VEVENT
DTSTART;VALUE=DATE:20200422
DTEND;VALUE=DATE:20200423
DTSTAMP:20260422T185044
CREATED:20200513T122311Z
LAST-MODIFIED:20201026T082256Z
UID:3268-1587513600-1587599999@ichessclub.org
SUMMARY:Online chess classes
DESCRIPTION:
URL:https://ichessclub.org/evenimente/antrenamente-online/
LOCATION:iChessClub Headquarters\, Aurel Vlaicu Street\, no. 54\, Iasi\, Romania\, Iasi\, Romania
ATTACH;FMTTYPE=image/jpeg:https://ichessclub.org/wp-content/uploads/2020/05/ichessclub-antrenamente-online-klcwk59cja-medium.jpg
END:VEVENT
BEGIN:VEVENT
DTSTART;VALUE=DATE:20200204
DTEND;VALUE=DATE:20200205
DTSTAMP:20260422T185044
CREATED:20200513T121841Z
LAST-MODIFIED:20201026T082403Z
UID:3234-1580774400-1580860799@ichessclub.org
SUMMARY:Club lesson with FIDE Trainer Bogdan Gârbea
DESCRIPTION:
URL:https://ichessclub.org/evenimente/lectie-deschisa-antrenor-fide-bogdan-garbea/
LOCATION:iChessClub Headquarters\, Aurel Vlaicu Street\, no. 54\, Iasi\, Romania\, Iasi\, Romania
ATTACH;FMTTYPE=image/jpeg:https://ichessclub.org/wp-content/uploads/2020/05/ichessclub-lectie-deschisa-f5dyvo9vmu-medium.jpg
END:VEVENT
BEGIN:VEVENT
DTSTART;VALUE=DATE:20200110
DTEND;VALUE=DATE:20200111
DTSTAMP:20260422T185044
CREATED:20200513T122122Z
LAST-MODIFIED:20201026T082505Z
UID:3239-1578614400-1578700799@ichessclub.org
SUMMARY:Visit our club
DESCRIPTION:
URL:https://ichessclub.org/evenimente/antrenamente-la-club/
LOCATION:iChessClub Headquarters\, Aurel Vlaicu Street\, no. 54\, Iasi\, Romania\, Iasi\, Romania
ATTACH;FMTTYPE=image/jpeg:https://ichessclub.org/wp-content/uploads/2020/05/ichessclub-deschidere-international-chess-club-g8249jcfddo-medium.jpeg
END:VEVENT
BEGIN:VEVENT
DTSTART;VALUE=DATE:20191221
DTEND;VALUE=DATE:20191222
DTSTAMP:20260422T185044
CREATED:20200513T121334Z
LAST-MODIFIED:20200517T090954Z
UID:3151-1576886400-1576972799@ichessclub.org
SUMMARY:Serbare Moș Crăciun
DESCRIPTION:
URL:https://ichessclub.org/evenimente/serbare-mos-craciun/
LOCATION:iChessClub Headquarters\, Aurel Vlaicu Street\, no. 54\, Iasi\, Romania\, Iasi\, Romania
ATTACH;FMTTYPE=image/jpeg:https://ichessclub.org/wp-content/uploads/2020/05/ichessclub-serbare-de-craciun-nw2qwfpa67d-medium.jpeg
END:VEVENT
BEGIN:VEVENT
DTSTART;VALUE=DATE:20191207
DTEND;VALUE=DATE:20191208
DTSTAMP:20260422T185045
CREATED:20200513T120854Z
LAST-MODIFIED:20200517T090115Z
UID:3087-1575676800-1575763199@ichessclub.org
SUMMARY:Cupa Moș Nicolae
DESCRIPTION:
URL:https://ichessclub.org/evenimente/cupa-mos-nicolae/
LOCATION:iChessClub Headquarters\, Aurel Vlaicu Street\, no. 54\, Iasi\, Romania\, Iasi\, Romania
ATTACH;FMTTYPE=image/jpeg:https://ichessclub.org/wp-content/uploads/2020/05/ichessclub-cupa-mos-nicolae-364hckt5fj7-medium.jpeg
END:VEVENT
BEGIN:VEVENT
DTSTART;VALUE=DATE:20191201
DTEND;VALUE=DATE:20191202
DTSTAMP:20260422T185045
CREATED:20200513T122633Z
LAST-MODIFIED:20200517T090433Z
UID:3081-1575158400-1575244799@ichessclub.org
SUMMARY:Cupa Palas
DESCRIPTION:
URL:https://ichessclub.org/evenimente/cupa-palas/
ATTACH;FMTTYPE=image/jpeg:https://ichessclub.org/wp-content/uploads/2020/05/ichessclub-cupa-palas-iy01n5q8wkh.jpeg
END:VEVENT
BEGIN:VEVENT
DTSTART;VALUE=DATE:20190903
DTEND;VALUE=DATE:20190904
DTSTAMP:20260422T185045
CREATED:20200513T114755Z
LAST-MODIFIED:20200517T090350Z
UID:3052-1567468800-1567555199@ichessclub.org
SUMMARY:Deschidere International Chess Club
DESCRIPTION:
URL:https://ichessclub.org/evenimente/deschidere-international-chess-club/
LOCATION:iChessClub Headquarters\, Aurel Vlaicu Street\, no. 54\, Iasi\, Romania\, Iasi\, Romania
ATTACH;FMTTYPE=image/jpeg:https://ichessclub.org/wp-content/uploads/2020/05/ichessclub-deschidere-international-chess-club-kld72j3h1l-medium.jpeg
END:VEVENT
END:VCALENDAR